BEGIN:VCALENDAR
VERSION:2.0
PRODID:-//Tukios.com/
BEGIN:VEVENT
UID:bf4121e5-215c-46d6-a37f-e71b6d75fe77@www.schneiderfunerals.com
DTSTAMP:20260423T221107Z
DTSTART:20260425T200000Z
DTEND:20260425T210000Z
SUMMARY:Visitation
DESCRIPTION:
URL:https://www.schneiderfunerals.com/obituaries/danny-abraham
LOCATION:Schneider Funeral Home & Cremations, Mound City Chapel 319 West 
	Chestnut Street  Mound City KS 66056
GEO:38.1411913;-94.810371
END:VEVENT
END:VCALENDAR