BEGIN:VCALENDAR
VERSION:2.0
PRODID:-//Tukios.com/
BEGIN:VEVENT
UID:a4c6f6cf-2745-45d6-9971-bbec0c069554@www.schneiderfunerals.com
DTSTAMP:20260426T043443Z
DTSTART:20260428T190000Z
DTEND:20260428T200000Z
SUMMARY:Graveside Service
DESCRIPTION:
URL:https://www.schneiderfunerals.com/obituaries/donnell-tinsley
LOCATION: 5000 Rd & Wright St.  Bronson KS 66716
GEO:37.8997007;-95.0797952
END:VEVENT
END:VCALENDAR